BEGIN:VCALENDAR
VERSION:2.0
PRODID:-//KOD / region łódzki
CALSCALE:GREGORIAN
METHOD:PUBLISH
X-WR-CALNAME:KOD / region łódzki
X-ORIGINAL-URL:https://kod-lodzkie.pl/wydarzenie/klubowe-spotkanie-czlonkow-i-sympatykow-kod/
X-WR-CALDESC:Klubowe spotkanie Członków i Sympatyków KOD
BEGIN:VEVENT
DTSTART;TZID=Europe/Helsinki:20230906T170000
DTEND;TZID=Europe/Helsinki:20230906T190000
SUMMARY:Klubowe spotkanie Członków i Sympatyków KOD
DESCRIPTION:
URL:https://kod-lodzkie.pl/wydarzenie/klubowe-spotkanie-czlonkow-i-sympatykow-kod/
LOCATION:
END:VEVENT
END:VCALENDAR
