BEGIN:VCALENDAR
VERSION:2.0
PRODID:-//KOD / region łódzki
CALSCALE:GREGORIAN
METHOD:PUBLISH
X-WR-CALNAME:KOD / region łódzki
X-ORIGINAL-URL:https://kod-lodzkie.pl/wydarzenie/zakodowana-sroda-zapraszamy-na-comiesieczne-spotkanie/
X-WR-CALDESC:zaKODowana środa
BEGIN:VEVENT
DTSTART;TZID=Europe/Helsinki:20230201T170000
DTEND;TZID=Europe/Helsinki:20230201T190000
SUMMARY:zaKODowana środa
DESCRIPTION:
URL:https://kod-lodzkie.pl/wydarzenie/zakodowana-sroda-zapraszamy-na-comiesieczne-spotkanie/
LOCATION:Siedziba łódzkiego KOD, ul. Gdańska 29, Łódź
END:VEVENT
END:VCALENDAR
