BEGIN:VCALENDAR
VERSION:2.0
PRODID:-//KOD / region łódzki
CALSCALE:GREGORIAN
METHOD:PUBLISH
X-WR-CALNAME:KOD / region łódzki
X-ORIGINAL-URL:https://kod-lodzkie.pl/wydarzenie/13-grudnia-pamietamy-zapal-znicz-dla-ofiar-stanu-wojennego/
X-WR-CALDESC:13 grudnia &#8211; pamiętamy! Zapal znicz dla ofiar stanu wojennego
BEGIN:VEVENT
DTSTART;TZID=Europe/Helsinki:20221213T000000
DTEND;TZID=Europe/Helsinki:20221213T003000
SUMMARY:13 grudnia – pamiętamy! Zapal znicz dla ofiar stanu wojennego
DESCRIPTION:
URL:https://kod-lodzkie.pl/wydarzenie/13-grudnia-pamietamy-zapal-znicz-dla-ofiar-stanu-wojennego/
LOCATION:ul. Sienkiewicza 38
END:VEVENT
END:VCALENDAR
