BEGIN:VCALENDAR
VERSION:2.0
PRODID:-//KOD / region łódzki
CALSCALE:GREGORIAN
METHOD:PUBLISH
X-WR-CALNAME:KOD / region łódzki
X-ORIGINAL-URL:https://kod-lodzkie.pl/wydarzenie/spotkanie-robocze-czlonkow-lodzkiego-kod/
X-WR-CALDESC:Spotkanie robocze członków łódzkiego KOD
BEGIN:VEVENT
DTSTART;TZID=Europe/Helsinki:20221020T173000
DTEND;TZID=Europe/Helsinki:20221020T193000
SUMMARY:Spotkanie robocze członków łódzkiego KOD
DESCRIPTION:
URL:https://kod-lodzkie.pl/wydarzenie/spotkanie-robocze-czlonkow-lodzkiego-kod/
LOCATION:Siedziba łódzkiego KOD, ul. Gdańska 29, Łódź
END:VEVENT
END:VCALENDAR
