BEGIN:VCALENDAR
VERSION:2.0
PRODID:-//KOD / region łódzki
CALSCALE:GREGORIAN
METHOD:PUBLISH
X-WR-CALNAME:KOD / region łódzki
X-ORIGINAL-URL:https://kod-lodzkie.pl/wydarzenie/swiatelko-pamieci-dla-piotra-szczesnego/
X-WR-CALDESC:Światełko pamięci dla Piotra Szczęsnego
BEGIN:VEVENT
DTSTART;TZID=Europe/Helsinki:20221019T190000
DTEND;TZID=Europe/Helsinki:20221019T193000
SUMMARY:Światełko pamięci dla Piotra Szczęsnego
DESCRIPTION:
URL:https://kod-lodzkie.pl/wydarzenie/swiatelko-pamieci-dla-piotra-szczesnego/
LOCATION:Łódź, Pasaż Rubinsteina
END:VEVENT
END:VCALENDAR
