BEGIN:VCALENDAR
VERSION:2.0
PRODID:-//KOD / region łódzki
CALSCALE:GREGORIAN
METHOD:PUBLISH
X-WR-CALNAME:KOD / region łódzki
X-ORIGINAL-URL:https://kod-lodzkie.pl/wydarzenie/regionalne-walne-zebranie-czlonkow-reg-lodzki/
X-WR-CALDESC:Regionalne Walne Zebranie Członków reg. łódzki
BEGIN:VEVENT
DTSTART;TZID=Europe/Helsinki:20221029T100000
DTEND;TZID=Europe/Helsinki:20221029T180000
SUMMARY:Regionalne Walne Zebranie Członków reg. łódzki
DESCRIPTION:
URL:https://kod-lodzkie.pl/wydarzenie/regionalne-walne-zebranie-czlonkow-reg-lodzki/
LOCATION:AULA H116 AKADEMII HUMANISTYCZNO – EKONOMICZNEJ W ŁODZI PRZY UL. REWOLUCJI 1905R. NR 50.
END:VEVENT
END:VCALENDAR
