BEGIN:VCALENDAR
VERSION:2.0
PRODID:-//KOD / region łódzki
CALSCALE:GREGORIAN
METHOD:PUBLISH
X-WR-CALNAME:KOD / region łódzki
X-ORIGINAL-URL:https://kod-lodzkie.pl/wydarzenie/co-wojna-w-ukrainie-zmienia-w-naszym-kompasie-moralnym-igrzyska-wolnosci-2022/
X-WR-CALDESC:Co wojna w Ukrainie zmienia w naszym kompasie moralnym? – Igrzyska Wolności 2022
BEGIN:VEVENT
DTSTART;TZID=Europe/Helsinki:20221016T180000
DTEND;TZID=Europe/Helsinki:20221016T190000
SUMMARY:Co wojna w Ukrainie zmienia w naszym kompasie moralnym? – Igrzyska Wolności 2022
DESCRIPTION:
URL:https://kod-lodzkie.pl/wydarzenie/co-wojna-w-ukrainie-zmienia-w-naszym-kompasie-moralnym-igrzyska-wolnosci-2022/
LOCATION:EC1 Łódź - Miasto Kultury, Łódź, ul. Targowa 1/3
END:VEVENT
END:VCALENDAR
