BEGIN:VCALENDAR
VERSION:2.0
PRODID:-//KOD / region łódzki
CALSCALE:GREGORIAN
METHOD:PUBLISH
X-WR-CALNAME:KOD / region łódzki
X-ORIGINAL-URL:https://kod-lodzkie.pl/wydarzenie/kartkadoczarnka-lodz/
X-WR-CALDESC:#KartkaDoCzarnka &#8211; Łódź
BEGIN:VEVENT
DTSTART;TZID=Europe/Helsinki:20221014T090000
DTEND;TZID=Europe/Helsinki:20221014T100000
SUMMARY:#KartkaDoCzarnka – Łódź
DESCRIPTION:
URL:https://kod-lodzkie.pl/wydarzenie/kartkadoczarnka-lodz/
LOCATION:Pod kuratorium Oświaty, ul. Więckowskiego 33
END:VEVENT
END:VCALENDAR
