BEGIN:VCALENDAR
VERSION:2.0
PRODID:-//KOD / region łódzki
CALSCALE:GREGORIAN
METHOD:PUBLISH
X-WR-CALNAME:KOD / region łódzki
X-ORIGINAL-URL:https://kod-lodzkie.pl/wydarzenie/spotkanie-czlonkow-i-delegatow-przed-kzd/
X-WR-CALDESC:Spotkanie członków i delegatów przed KZD
BEGIN:VEVENT
DTSTART;TZID=Europe/Helsinki:20220921T180000
DTEND;TZID=Europe/Helsinki:20220921T200000
SUMMARY:Spotkanie członków i delegatów przed KZD
DESCRIPTION:
URL:https://kod-lodzkie.pl/wydarzenie/spotkanie-czlonkow-i-delegatow-przed-kzd/
LOCATION:Siedziba łódzkiego KOD, ul. Gdańska 29, Łódź
END:VEVENT
END:VCALENDAR
