BEGIN:VCALENDAR
VERSION:2.0
PRODID:-//KOD / region łódzki
CALSCALE:GREGORIAN
METHOD:PUBLISH
X-WR-CALNAME:KOD / region łódzki
X-ORIGINAL-URL:https://kod-lodzkie.pl/wydarzenie/15-07-jolanta-i-aleksander-kwasniewscy-w-pabianicach/
X-WR-CALDESC:&#8222;Dlaczego demokracja?&#8221; &#8211; Jolanta i Aleksander Kwaśniewscy w Pabianicach
BEGIN:VEVENT
DTSTART;TZID=Europe/Helsinki:20220715T170000
DTEND;TZID=Europe/Helsinki:20220715T190000
SUMMARY:„Dlaczego demokracja?” – Jolanta i Aleksander Kwaśniewscy w Pabianicach
DESCRIPTION:
URL:https://kod-lodzkie.pl/wydarzenie/15-07-jolanta-i-aleksander-kwasniewscy-w-pabianicach/
LOCATION:PABIANICE, Zielone Błonie (dawniej stadion Zjednoczeni), ul. Żeromskiego 17
END:VEVENT
END:VCALENDAR
