BEGIN:VCALENDAR
VERSION:2.0
PRODID:-//KOD / region łódzki
CALSCALE:GREGORIAN
METHOD:PUBLISH
X-WR-CALNAME:KOD / region łódzki
X-ORIGINAL-URL:https://kod-lodzkie.pl/wydarzenie/4-czerwca-wybralismy-wolnosc-a-dzis-tv-chodzi-na-pasku/
X-WR-CALDESC:4 czerwca wybraliśmy wolność, a dziś TV chodzi na pasku
BEGIN:VEVENT
DTSTART;TZID=Europe/Helsinki:20220604T150000
DTEND;TZID=Europe/Helsinki:20220604T180000
SUMMARY:4 czerwca wybraliśmy wolność, a dziś TV chodzi na pasku
DESCRIPTION:
URL:https://kod-lodzkie.pl/wydarzenie/4-czerwca-wybralismy-wolnosc-a-dzis-tv-chodzi-na-pasku/
LOCATION:Pasaż Rubinsteina Łódź
END:VEVENT
END:VCALENDAR
