BEGIN:VCALENDAR
VERSION:2.0
PRODID:-//KOD / region łódzki
CALSCALE:GREGORIAN
METHOD:PUBLISH
X-WR-CALNAME:KOD / region łódzki
X-ORIGINAL-URL:https://kod-lodzkie.pl/wydarzenie/wolna-ukraina-manifestacja-wsparcia-pabianice/
X-WR-CALDESC:Wolna Ukraina &#8211; manifestacja wsparcia, Pabianice
BEGIN:VEVENT
DTSTART;TZID=Europe/Helsinki:20220312T130000
DTEND;TZID=Europe/Helsinki:20220312T150000
SUMMARY:Wolna Ukraina – manifestacja wsparcia, Pabianice
DESCRIPTION:
URL:https://kod-lodzkie.pl/wydarzenie/wolna-ukraina-manifestacja-wsparcia-pabianice/
LOCATION:Pabianice, ul. Zamkowa 16
END:VEVENT
END:VCALENDAR
