BEGIN:VCALENDAR
VERSION:2.0
PRODID:-//KOD / region łódzki
CALSCALE:GREGORIAN
METHOD:PUBLISH
X-WR-CALNAME:KOD / region łódzki
X-ORIGINAL-URL:https://kod-lodzkie.pl/wydarzenie/adam-michnik-spotkanie-w-pabianicach/
X-WR-CALDESC:ADAM MICHNIK | spotkanie w Pabianicach
BEGIN:VEVENT
DTSTART;TZID=Europe/Helsinki:20220320T170000
DTEND;TZID=Europe/Helsinki:20220320T190000
SUMMARY:ADAM MICHNIK | spotkanie w Pabianicach
DESCRIPTION:
URL:https://kod-lodzkie.pl/wydarzenie/adam-michnik-spotkanie-w-pabianicach/
LOCATION:Pabianice, ul. Zamkowa 2, Hotel Fabryka Wełny
END:VEVENT
END:VCALENDAR
