BEGIN:VCALENDAR
VERSION:2.0
PRODID:-//KOD / region łódzki
CALSCALE:GREGORIAN
METHOD:PUBLISH
X-WR-CALNAME:KOD / region łódzki
X-ORIGINAL-URL:https://kod-lodzkie.pl/wydarzenie/wolne-media-veto-dla-lextvn-kopia/
X-WR-CALDESC:3 TEZY &#8211; WOLNA SZKOŁA, WOLNI LUDZIE, WOLNA POLSKA
BEGIN:VEVENT
DTSTART;TZID=Europe/Helsinki:20220103T160000
DTEND;TZID=Europe/Helsinki:20220103T170000
SUMMARY:3 TEZY – WOLNA SZKOŁA, WOLNI LUDZIE, WOLNA POLSKA
DESCRIPTION:
URL:https://kod-lodzkie.pl/wydarzenie/wolne-media-veto-dla-lextvn-kopia/
LOCATION:pod Kuratorium Oświaty w Łodzi al. Kościuszki 120a
END:VEVENT
END:VCALENDAR
