BEGIN:VCALENDAR
VERSION:2.0
PRODID:-//KOD / region łódzki
CALSCALE:GREGORIAN
METHOD:PUBLISH
X-WR-CALNAME:KOD / region łódzki
X-ORIGINAL-URL:https://kod-lodzkie.pl/wydarzenie/wolne-media-veto-dla-lextvn/
X-WR-CALDESC:Wolne media! Veto dla lexTVN!
BEGIN:VEVENT
DTSTART;TZID=Europe/Helsinki:20211219T190000
DTEND;TZID=Europe/Helsinki:20211219T200000
SUMMARY:Wolne media! Veto dla lexTVN!
DESCRIPTION:
URL:https://kod-lodzkie.pl/wydarzenie/wolne-media-veto-dla-lextvn/
LOCATION:pod PiS, ul. Piotrkowska 143
END:VEVENT
END:VCALENDAR
