BEGIN:VCALENDAR
VERSION:2.0
PRODID:-//KOD / region łódzki
CALSCALE:GREGORIAN
METHOD:PUBLISH
X-WR-CALNAME:KOD / region łódzki
X-ORIGINAL-URL:https://kod-lodzkie.pl/wydarzenie/robimy-kotyliony-na-marsz-niepodleglosci-2/
X-WR-CALDESC:Robimy kotyliony na Marsz Niepodległości
BEGIN:VEVENT
DTSTART;TZID=Europe/Helsinki:20211110T150000
DTEND;TZID=Europe/Helsinki:20211110T190000
SUMMARY:Robimy kotyliony na Marsz Niepodległości
DESCRIPTION:
URL:https://kod-lodzkie.pl/wydarzenie/robimy-kotyliony-na-marsz-niepodleglosci-2/
LOCATION:Łódź, ul. Gdańska 29
END:VEVENT
END:VCALENDAR
