BEGIN:VCALENDAR
VERSION:2.0
PRODID:-//KOD / region łódzki
CALSCALE:GREGORIAN
METHOD:PUBLISH
X-WR-CALNAME:KOD / region łódzki
X-ORIGINAL-URL:https://kod-lodzkie.pl/wydarzenie/zebranie-koderow/
X-WR-CALDESC:Zebranie KODerów
BEGIN:VEVENT
DTSTART;TZID=Europe/Helsinki:20211027T180000
DTEND;TZID=Europe/Helsinki:20211027T200000
SUMMARY:Zebranie KODerów
DESCRIPTION:
URL:https://kod-lodzkie.pl/wydarzenie/zebranie-koderow/
LOCATION:Łódź, ul. Gdańska 29
END:VEVENT
END:VCALENDAR
