BEGIN:VCALENDAR
VERSION:2.0
PRODID:-//KOD / region łódzki
CALSCALE:GREGORIAN
METHOD:PUBLISH
X-WR-CALNAME:KOD / region łódzki
X-ORIGINAL-URL:https://kod-lodzkie.pl/wydarzenie/wyjazd-autokarowy-na-manifestacje-do-warszawy/
X-WR-CALDESC:WYJAZD AUTOKAROWY NA MANIFESTACJĘ DO WARSZAWY
BEGIN:VEVENT
DTSTART;TZID=Europe/Helsinki:20211010T180000
DTEND;TZID=Europe/Helsinki:20211010T191500
SUMMARY:WYJAZD AUTOKAROWY NA MANIFESTACJĘ DO WARSZAWY
DESCRIPTION:
URL:https://kod-lodzkie.pl/wydarzenie/wyjazd-autokarowy-na-manifestacje-do-warszawy/
LOCATION:Warszawa, Pl. Zamkowy
END:VEVENT
END:VCALENDAR
