BEGIN:VCALENDAR
VERSION:2.0
PRODID:-//KOD / region łódzki
CALSCALE:GREGORIAN
METHOD:PUBLISH
X-WR-CALNAME:KOD / region łódzki
X-ORIGINAL-URL:https://kod-lodzkie.pl/wydarzenie/wolne-media-wolna-polska-w-europie/
X-WR-CALDESC:Wolne Media, wolna Polska w Europie
BEGIN:VEVENT
DTSTART;TZID=Europe/Helsinki:20210914T180000
DTEND;TZID=Europe/Helsinki:20210914T191500
SUMMARY:Wolne Media, wolna Polska w Europie
DESCRIPTION:
URL:https://kod-lodzkie.pl/wydarzenie/wolne-media-wolna-polska-w-europie/
LOCATION:Łódź, Pasaż Schillera
END:VEVENT
END:VCALENDAR
