BEGIN:VCALENDAR
VERSION:2.0
PRODID:-//KOD / region łódzki
CALSCALE:GREGORIAN
METHOD:PUBLISH
X-WR-CALNAME:KOD / region łódzki
X-ORIGINAL-URL:https://kod-lodzkie.pl/wydarzenie/igrzyska-wolnosci-jak-walczyc-z-manipulacja-i-falszywszymi-informacjami-w-mediach/
X-WR-CALDESC:IW / Jak walczyć z manipulacją i fałszywszymi informacjami w mediach?
BEGIN:VEVENT
DTSTART;TZID=Europe/Helsinki:20210912T120000
DTEND;TZID=Europe/Helsinki:20210912T124500
SUMMARY:IW / Jak walczyć z manipulacją i fałszywszymi informacjami w mediach?
DESCRIPTION:
URL:https://kod-lodzkie.pl/wydarzenie/igrzyska-wolnosci-jak-walczyc-z-manipulacja-i-falszywszymi-informacjami-w-mediach/
LOCATION:EC1 Łódź  //  ul. Targowa 1/3, 90-022 Łódź
END:VEVENT
END:VCALENDAR
