BEGIN:VCALENDAR
VERSION:2.0
PRODID:-//KOD / region łódzki
CALSCALE:GREGORIAN
METHOD:PUBLISH
X-WR-CALNAME:KOD / region łódzki
X-ORIGINAL-URL:https://kod-lodzkie.pl/wydarzenie/14-08-stop-sejmowemu-bezprawiu-i-lextvn/
X-WR-CALDESC:14.08 | STOP sejmowemu bezprawiu i LexTVN
BEGIN:VEVENT
DTSTART;TZID=Europe/Helsinki:20210814T160000
DTEND;TZID=Europe/Helsinki:20210814T170000
SUMMARY:14.08 | STOP sejmowemu bezprawiu i LexTVN
DESCRIPTION:
URL:https://kod-lodzkie.pl/wydarzenie/14-08-stop-sejmowemu-bezprawiu-i-lextvn/
LOCATION:Łódź, Pasaż Schillera
END:VEVENT
END:VCALENDAR
