BEGIN:VCALENDAR
VERSION:2.0
PRODID:-//KOD / region łódzki
CALSCALE:GREGORIAN
METHOD:PUBLISH
X-WR-CALNAME:KOD / region łódzki
X-ORIGINAL-URL:https://kod-lodzkie.pl/wydarzenie/wolne-media-wolni-ludzie-wolna-polska/
X-WR-CALDESC:Wolne Media, wolni ludzie, wolna Polska!
BEGIN:VEVENT
DTSTART;TZID=Europe/Helsinki:20210810T180000
DTEND;TZID=Europe/Helsinki:20210810T200000
SUMMARY:Wolne Media, wolni ludzie, wolna Polska!
DESCRIPTION:
URL:https://kod-lodzkie.pl/wydarzenie/wolne-media-wolni-ludzie-wolna-polska/
LOCATION:Łódź, Plac Wolności do Pasażu Schillera
END:VEVENT
END:VCALENDAR
