BEGIN:VCALENDAR
VERSION:2.0
PRODID:-//KOD / region łódzki
CALSCALE:GREGORIAN
METHOD:PUBLISH
X-WR-CALNAME:KOD / region łódzki
X-ORIGINAL-URL:https://kod-lodzkie.pl/wydarzenie/pabianice-tour-de-konstytucja/
X-WR-CALDESC:Pabianice: Tour de Konstytucja
BEGIN:VEVENT
DTSTART;TZID=Europe/Helsinki:20210617T110000
DTEND;TZID=Europe/Helsinki:20210617T130000
SUMMARY:Pabianice: Tour de Konstytucja
DESCRIPTION:
URL:https://kod-lodzkie.pl/wydarzenie/pabianice-tour-de-konstytucja/
LOCATION:PABIANICE, UL. zamkowa 16
END:VEVENT
END:VCALENDAR
