BEGIN:VCALENDAR
VERSION:2.0
PRODID:-//KOD / region łódzki
CALSCALE:GREGORIAN
METHOD:PUBLISH
X-WR-CALNAME:KOD / region łódzki
X-ORIGINAL-URL:https://kod-lodzkie.pl/wydarzenie/spacer-wolnosci/
X-WR-CALDESC:Spacer Wolności
BEGIN:VEVENT
DTSTART;TZID=Europe/Helsinki:20210604T180000
DTEND;TZID=Europe/Helsinki:20210604T190000
SUMMARY:Spacer Wolności
DESCRIPTION:
URL:https://kod-lodzkie.pl/wydarzenie/spacer-wolnosci/
LOCATION:Pl. Wolności, Łódź
END:VEVENT
END:VCALENDAR
