BEGIN:VCALENDAR
VERSION:2.0
PRODID:-//KOD / region łódzki
CALSCALE:GREGORIAN
METHOD:PUBLISH
X-WR-CALNAME:KOD / region łódzki
X-ORIGINAL-URL:https://kod-lodzkie.pl/wydarzenie/kwiatek-dla-tadeusza/
X-WR-CALDESC:Kwiatek dla Tadeusza
BEGIN:VEVENT
DTSTART;TZID=Europe/Helsinki:20210503T120000
DTEND;TZID=Europe/Helsinki:20210503T233000
SUMMARY:Kwiatek dla Tadeusza
DESCRIPTION:
URL:https://kod-lodzkie.pl/wydarzenie/kwiatek-dla-tadeusza/
LOCATION:pl. Wolności, Łódź
END:VEVENT
END:VCALENDAR
