BEGIN:VCALENDAR
VERSION:2.0
PRODID:-//KOD / region łódzki
CALSCALE:GREGORIAN
METHOD:PUBLISH
X-WR-CALNAME:KOD / region łódzki
X-ORIGINAL-URL:https://kod-lodzkie.pl/wydarzenie/stop-przemocy/
X-WR-CALDESC:Stop Przemocy!
BEGIN:VEVENT
DTSTART;TZID=Europe/Helsinki:20210315T180000
DTEND;TZID=Europe/Helsinki:20210315T183000
SUMMARY:Stop Przemocy!
DESCRIPTION:
URL:https://kod-lodzkie.pl/wydarzenie/stop-przemocy/
LOCATION:Łódź, ul. Piotrkowska 143
END:VEVENT
END:VCALENDAR
