BEGIN:VCALENDAR
VERSION:2.0
PRODID:-//KOD / region łódzki
CALSCALE:GREGORIAN
METHOD:PUBLISH
X-WR-CALNAME:KOD / region łódzki
X-ORIGINAL-URL:https://kod-lodzkie.pl/wydarzenie/solidarni-z-sedziami-zdunska-wola/
X-WR-CALDESC:Solidarni z Sędziami &#8211; Zduńska Wola
BEGIN:VEVENT
DTSTART;TZID=Europe/Helsinki:20210318T180000
DTEND;TZID=Europe/Helsinki:20210318T183000
SUMMARY:Solidarni z Sędziami – Zduńska Wola
DESCRIPTION:
URL:https://kod-lodzkie.pl/wydarzenie/solidarni-z-sedziami-zdunska-wola/
LOCATION:Pod Sądem w Zduńskiej Woli, ul. Kilińskiego
END:VEVENT
END:VCALENDAR
