BEGIN:VCALENDAR
VERSION:2.0
PRODID:-//KOD / region łódzki
CALSCALE:GREGORIAN
METHOD:PUBLISH
X-WR-CALNAME:KOD / region łódzki
X-ORIGINAL-URL:https://kod-lodzkie.pl/wydarzenie/solidarni-z-sedziami-poddebice/
X-WR-CALDESC:Solidarni z Sędziami &#8211; Poddębice
BEGIN:VEVENT
DTSTART;TZID=Europe/Helsinki:20210318T170000
DTEND;TZID=Europe/Helsinki:20210318T173000
SUMMARY:Solidarni z Sędziami – Poddębice
DESCRIPTION:
URL:https://kod-lodzkie.pl/wydarzenie/solidarni-z-sedziami-poddebice/
LOCATION:Pod Sądem w Poddębicach, ul. Północna 5
END:VEVENT
END:VCALENDAR
