BEGIN:VCALENDAR
VERSION:2.0
PRODID:-//KOD / region łódzki
CALSCALE:GREGORIAN
METHOD:PUBLISH
X-WR-CALNAME:KOD / region łódzki
X-ORIGINAL-URL:https://kod-lodzkie.pl/wydarzenie/solidarni-z-sedziami-4/
X-WR-CALDESC:Solidarni z Sędziami &#8211; Łódź
BEGIN:VEVENT
DTSTART;TZID=Europe/Helsinki:20210318T150000
DTEND;TZID=Europe/Helsinki:20210318T153000
SUMMARY:Solidarni z Sędziami – Łódź
DESCRIPTION:
URL:https://kod-lodzkie.pl/wydarzenie/solidarni-z-sedziami-4/
LOCATION:Przed Sądem Łódź Widzew, Kopcińskiego 56, Łódź
END:VEVENT
END:VCALENDAR
