BEGIN:VCALENDAR
VERSION:2.0
PRODID:-//KOD / region łódzki
CALSCALE:GREGORIAN
METHOD:PUBLISH
X-WR-CALNAME:KOD / region łódzki
X-ORIGINAL-URL:https://kod-lodzkie.pl/wydarzenie/solidarni-z-sedziami-3/
X-WR-CALDESC:Solidarni z Sędziami
BEGIN:VEVENT
DTSTART;TZID=Europe/Helsinki:20210218T150000
DTEND;TZID=Europe/Helsinki:
SUMMARY:Solidarni z Sędziami
DESCRIPTION:
URL:https://kod-lodzkie.pl/wydarzenie/solidarni-z-sedziami-3/
LOCATION:Przed Sądem na al. Kościuszki 107/109, Łódź
END:VEVENT
END:VCALENDAR
