BEGIN:VCALENDAR
VERSION:2.0
PRODID:-//KOD / region łódzki
CALSCALE:GREGORIAN
METHOD:PUBLISH
X-WR-CALNAME:KOD / region łódzki
X-ORIGINAL-URL:https://kod-lodzkie.pl/wydarzenie/solidarni-z-sedziami-2/
X-WR-CALDESC:Serce dla Pawła Adamowicza #stopHejt
BEGIN:VEVENT
DTSTART;TZID=Europe/Helsinki:20210114T180000
DTEND;TZID=Europe/Helsinki:20210114T183000
SUMMARY:Serce dla Pawła Adamowicza #stopHejt
DESCRIPTION:
URL:https://kod-lodzkie.pl/wydarzenie/solidarni-z-sedziami-2/
LOCATION:Pod Sądem Administracyjnym, ul. Piotrkowska 135, Łódź
END:VEVENT
END:VCALENDAR
