BEGIN:VCALENDAR
VERSION:2.0
PRODID:-//KOD / region łódzki
CALSCALE:GREGORIAN
METHOD:PUBLISH
X-WR-CALNAME:KOD / region łódzki
X-ORIGINAL-URL:https://kod-lodzkie.pl/wydarzenie/solidarni-z-sedziami/
X-WR-CALDESC:Solidarni z Sędziami
BEGIN:VEVENT
DTSTART;TZID=Europe/Helsinki:20210118T190000
DTEND;TZID=Europe/Helsinki:20210118T193000
SUMMARY:Solidarni z Sędziami
DESCRIPTION:
URL:https://kod-lodzkie.pl/wydarzenie/solidarni-z-sedziami/
LOCATION:Pod Sądem Administracyjnym, ul. Piotrkowska 135, Łódź
END:VEVENT
END:VCALENDAR
