BEGIN:VCALENDAR
VERSION:2.0
PRODID:-//KOD / region łódzki
CALSCALE:GREGORIAN
METHOD:PUBLISH
X-WR-CALNAME:KOD / region łódzki
X-ORIGINAL-URL:https://kod-lodzkie.pl/wydarzenie/28-11-dzien-niepodleglosci/
X-WR-CALDESC:28.11 &#8211; DZIEŃ NIEPODLEGŁOSCI
BEGIN:VEVENT
DTSTART;TZID=Europe/Helsinki:20201128T150000
DTEND;TZID=Europe/Helsinki:20201128T200000
SUMMARY:28.11 – DZIEŃ NIEPODLEGŁOSCI
DESCRIPTION:
URL:https://kod-lodzkie.pl/wydarzenie/28-11-dzien-niepodleglosci/
LOCATION:Stary Rynek, Łódź
END:VEVENT
END:VCALENDAR
