BEGIN:VCALENDAR
VERSION:2.0
PRODID:-//KOD / region łódzki
CALSCALE:GREGORIAN
METHOD:PUBLISH
X-WR-CALNAME:KOD / region łódzki
X-ORIGINAL-URL:https://kod-lodzkie.pl/wydarzenie/18-11-wypierdalac-w-kosmos/
X-WR-CALDESC:18.11 &#8211; Wypierdalać w Kosmos!
BEGIN:VEVENT
DTSTART;TZID=Europe/Helsinki:20201118T170000
DTEND;TZID=Europe/Helsinki:20201118T200000
SUMMARY:18.11 – Wypierdalać w Kosmos!
DESCRIPTION:
URL:https://kod-lodzkie.pl/wydarzenie/18-11-wypierdalac-w-kosmos/
LOCATION:ulica Piotrkowska 143,  Łódź
END:VEVENT
END:VCALENDAR
