BEGIN:VCALENDAR
VERSION:2.0
PRODID:-//KOD / region łódzki
CALSCALE:GREGORIAN
METHOD:PUBLISH
X-WR-CALNAME:KOD / region łódzki
X-ORIGINAL-URL:https://kod-lodzkie.pl/wydarzenie/spotkanie-on-line-koderow/
X-WR-CALDESC:Spotkanie on-line koderów
BEGIN:VEVENT
DTSTART;TZID=Europe/Helsinki:20201119T180000
DTEND;TZID=Europe/Helsinki:20201119T200000
SUMMARY:Spotkanie on-line koderów
DESCRIPTION:
URL:https://kod-lodzkie.pl/wydarzenie/spotkanie-on-line-koderow/
LOCATION:
END:VEVENT
END:VCALENDAR
