BEGIN:VCALENDAR
VERSION:2.0
PRODID:-//KOD / region łódzki
CALSCALE:GREGORIAN
METHOD:PUBLISH
X-WR-CALNAME:KOD / region łódzki
X-ORIGINAL-URL:https://kod-lodzkie.pl/wydarzenie/19-10-swiatelko-dla-szarego-czlowieka/
X-WR-CALDESC:19.10 | Światełko dla Szarego Człowieka
BEGIN:VEVENT
DTSTART;TZID=Europe/Helsinki:20201019T190000
DTEND;TZID=Europe/Helsinki:20201019T193000
SUMMARY:19.10 | Światełko dla Szarego Człowieka
DESCRIPTION:
URL:https://kod-lodzkie.pl/wydarzenie/19-10-swiatelko-dla-szarego-czlowieka/
LOCATION:Łódź, pasaż Schillera
END:VEVENT
END:VCALENDAR
