BEGIN:VCALENDAR
VERSION:2.0
PRODID:-//KOD / region łódzki
CALSCALE:GREGORIAN
METHOD:PUBLISH
X-WR-CALNAME:KOD / region łódzki
X-ORIGINAL-URL:https://kod-lodzkie.pl/wydarzenie/alarm-dla-edukacji-i-nauki-lodz/
X-WR-CALDESC:Alarm dla edukacji i nauki / Łódź
BEGIN:VEVENT
DTSTART;TZID=Europe/Helsinki:20201014T180000
DTEND;TZID=Europe/Helsinki:20201014T190000
SUMMARY:Alarm dla edukacji i nauki / Łódź
DESCRIPTION:
URL:https://kod-lodzkie.pl/wydarzenie/alarm-dla-edukacji-i-nauki-lodz/
LOCATION:Łódź, ul. Piotrkowska 143
END:VEVENT
END:VCALENDAR
