BEGIN:VCALENDAR
VERSION:2.0
PRODID:-//KOD / region łódzki
CALSCALE:GREGORIAN
METHOD:PUBLISH
X-WR-CALNAME:KOD / region łódzki
X-ORIGINAL-URL:https://kod-lodzkie.pl/wydarzenie/jestesmy-97-solidarnosc-z-bialorusia/
X-WR-CALDESC:Jesteśmy 97%! Solidarność z Białorusią
BEGIN:VEVENT
DTSTART;TZID=Europe/Helsinki:20200729T180000
DTEND;TZID=Europe/Helsinki:20200729T193000
SUMMARY:Jesteśmy 97%! Solidarność z Białorusią
DESCRIPTION:
URL:https://kod-lodzkie.pl/wydarzenie/jestesmy-97-solidarnosc-z-bialorusia/
LOCATION:Pasaż Schillera, Łódź
END:VEVENT
END:VCALENDAR
