BEGIN:VCALENDAR
VERSION:2.0
PRODID:-//KOD / region łódzki
CALSCALE:GREGORIAN
METHOD:PUBLISH
X-WR-CALNAME:KOD / region łódzki
X-ORIGINAL-URL:https://kod-lodzkie.pl/wydarzenie/przyjmujemy-formularze-z-obserwacji/
X-WR-CALDESC:17.00 &#8211; 21.30 PRZYJMUJEMY FORMULARZE z OBSERWACJI
BEGIN:VEVENT
DTSTART:20200628T170000
DTEND:20200628T213000
SUMMARY:17.00 – 21.30 PRZYJMUJEMY FORMULARZE z OBSERWACJI
DESCRIPTION:UWAGA: osoby wchodzące do siedziby zobowiązane są do noszenia maseczek, zdezynfekowania dłoni żelem znajdującym się przy wejściu do lokalu oraz zachowania zalecanej odległości między sobą.
URL:https://kod-lodzkie.pl/wydarzenie/przyjmujemy-formularze-z-obserwacji/
LOCATION:Siedziba łódzkiego KOD, ul. Gdańska 29, Łódź
END:VEVENT
END:VCALENDAR
