BEGIN:VCALENDAR
VERSION:2.0
PRODID:-//KOD / region łódzki
CALSCALE:GREGORIAN
METHOD:PUBLISH
X-WR-CALNAME:KOD / region łódzki
X-ORIGINAL-URL:https://kod-lodzkie.pl/wydarzenie/polacy-to-fajni-ludzie-ida-na-wybory-czyli-zegnaj-adrianie/
X-WR-CALDESC:Polacy, to fajni ludzie. Idą na wybory” czyli&#8230; żegnaj Adrianie.
BEGIN:VEVENT
DTSTART;TZID=Europe/Helsinki:20200625T150000
DTEND;TZID=Europe/Helsinki:20200625T190000
SUMMARY:Polacy, to fajni ludzie. Idą na wybory” czyli… żegnaj Adrianie.
DESCRIPTION:
URL:https://kod-lodzkie.pl/wydarzenie/polacy-to-fajni-ludzie-ida-na-wybory-czyli-zegnaj-adrianie/
LOCATION:Łódź, pasaż Schillera
END:VEVENT
END:VCALENDAR
