BEGIN:VCALENDAR
VERSION:2.0
PRODID:-//KOD / region łódzki
CALSCALE:GREGORIAN
METHOD:PUBLISH
X-WR-CALNAME:KOD / region łódzki
X-ORIGINAL-URL:https://kod-lodzkie.pl/wydarzenie/dyzur-w-siedzibie-przyjdz-po-materialy/
X-WR-CALDESC:Dyżur w siedzibie &#8211; przyjdź po materiały!
BEGIN:VEVENT
DTSTART:20200619T160000
DTEND:20200619T180000
SUMMARY:Dyżur w siedzibie – przyjdź po materiały!
DESCRIPTION:UWAGA: osoby wchodzące do siedziby zobowiązane są do noszenia maseczek, zdezynfekowania dłoni żelem znajdującym się przy wejściu do lokalu oraz zachowania zalecanej odległości między sobą.
URL:https://kod-lodzkie.pl/wydarzenie/dyzur-w-siedzibie-przyjdz-po-materialy/
LOCATION:Siedziba łódzkiego KOD, ul. Gdańska 29, Łódź
END:VEVENT
END:VCALENDAR
