BEGIN:VCALENDAR
VERSION:2.0
PRODID:-//KOD / region łódzki
CALSCALE:GREGORIAN
METHOD:PUBLISH
X-WR-CALNAME:KOD / region łódzki
X-ORIGINAL-URL:https://kod-lodzkie.pl/wydarzenie/dyzur-w-siedzibie-sroda-13/
X-WR-CALDESC:SIEDZIBA ZAMKNIĘTA
BEGIN:VEVENT
DTSTART:20200805T160000
DTEND:20200805T180000
SUMMARY:SIEDZIBA ZAMKNIĘTA
DESCRIPTION:UWAGA: osoby wchodzące do siedziby zobowiązane są do noszenia maseczek, zdezynfekowania dłoni żelem znajdującym się przy wejściu do lokalu oraz zachowania zalecanej odległości między sobą.
URL:https://kod-lodzkie.pl/wydarzenie/dyzur-w-siedzibie-sroda-13/
LOCATION:Siedziba łódzkiego KOD, ul. Gdańska 29, Łódź
END:VEVENT
END:VCALENDAR
