BEGIN:VCALENDAR
VERSION:2.0
PRODID:-//KOD / region łódzki
CALSCALE:GREGORIAN
METHOD:PUBLISH
X-WR-CALNAME:KOD / region łódzki
X-ORIGINAL-URL:https://kod-lodzkie.pl/wydarzenie/zebranie-on-line/
X-WR-CALDESC:Zebranie on-line
BEGIN:VEVENT
DTSTART;TZID=Europe/Helsinki:20200429T180000
DTEND;TZID=Europe/Helsinki:20200429T200000
SUMMARY:Zebranie on-line
DESCRIPTION:
URL:https://kod-lodzkie.pl/wydarzenie/zebranie-on-line/
LOCATION:
END:VEVENT
END:VCALENDAR
