BEGIN:VCALENDAR
VERSION:2.0
PRODID:-//KOD / region łódzki
CALSCALE:GREGORIAN
METHOD:PUBLISH
X-WR-CALNAME:KOD / region łódzki
X-ORIGINAL-URL:https://kod-lodzkie.pl/wydarzenie/pis-ma-gest-plakat-atak-2/
X-WR-CALDESC:&#8222;PiS ma gest&#8221; czyli palcem na ulicę
BEGIN:VEVENT
DTSTART;TZID=Europe/Helsinki:20200315T130000
DTEND;TZID=Europe/Helsinki:20200315T140000
SUMMARY:„PiS ma gest” czyli palcem na ulicę
DESCRIPTION:
URL:https://kod-lodzkie.pl/wydarzenie/pis-ma-gest-plakat-atak-2/
LOCATION:Pasaż Rubinsteina, Łódź
END:VEVENT
END:VCALENDAR
