BEGIN:VCALENDAR
VERSION:2.0
PRODID:-//KOD / region łódzki
CALSCALE:GREGORIAN
METHOD:PUBLISH
X-WR-CALNAME:KOD / region łódzki
X-ORIGINAL-URL:https://kod-lodzkie.pl/wydarzenie/pis-ma-gest-plakat-atak/
X-WR-CALDESC:&#8222;PiS ma gest&#8221;, czyli plakaty na ulicę
BEGIN:VEVENT
DTSTART;TZID=Europe/Helsinki:20200307T130000
DTEND;TZID=Europe/Helsinki:20200307T140000
SUMMARY:„PiS ma gest”, czyli plakaty na ulicę
DESCRIPTION:
URL:https://kod-lodzkie.pl/wydarzenie/pis-ma-gest-plakat-atak/
LOCATION:Pasaż Schillera, Łódź
END:VEVENT
END:VCALENDAR
