BEGIN:VCALENDAR
VERSION:2.0
PRODID:-//KOD / region łódzki
CALSCALE:GREGORIAN
METHOD:PUBLISH
X-WR-CALNAME:KOD / region łódzki
X-ORIGINAL-URL:https://kod-lodzkie.pl/wydarzenie/co-z-ta-wolnoscia-spotkanie-z-prof-marcinem-matczakiem/
X-WR-CALDESC:SPOTKANIE ODWOŁANE! &#8211; spotkanie z prof. Marcinem Matczakiem
BEGIN:VEVENT
DTSTART;TZID=Europe/Helsinki:20200315T000000
DTEND;TZID=Europe/Helsinki:20200315T000000
SUMMARY:SPOTKANIE ODWOŁANE! – spotkanie z prof. Marcinem Matczakiem
DESCRIPTION:
URL:https://kod-lodzkie.pl/wydarzenie/co-z-ta-wolnoscia-spotkanie-z-prof-marcinem-matczakiem/
LOCATION:
END:VEVENT
END:VCALENDAR
